BEGIN:VCALENDAR
VERSION:2.0
PRODID:-//wp-events-plugin.com//6.5//EN
BEGIN:VEVENT
UID:76-10256@dallas.swea.org
DTSTART;TZID=America/Chicago:20260528T000000
DTEND;TZID=America/Chicago:20260528T000000
DTSTAMP:20260319T031359Z
URL:https://dallas.swea.org/events/barngruppstraff-3/
SUMMARY:Barngruppsträff
DESCRIPTION:
ATTACH;FMTTYPE=image/jpeg:https://dallas.swea.org/wp-content/uploads/sites
 /76/2026/03/Barngruppstraff_Webbsidan_1080x1080.png
END:VEVENT
BEGIN:VTIMEZONE
TZID:America/Chicago
X-LIC-LOCATION:America/Chicago
BEGIN:DAYLIGHT
DTSTART:20260308T030000
TZOFFSETFROM:-0600
TZOFFSETTO:-0500
TZNAME:CDT
END:DAYLIGHT
END:VTIMEZONE
END:VCALENDAR