BEGIN:VCALENDAR
VERSION:2.0
PRODID:-//wp-events-plugin.com//6.5//EN
BEGIN:VEVENT
UID:76-9965@dallas.swea.org
DTSTART;TZID=America/Chicago:20261201T100000
DTEND;TZID=America/Chicago:20261201T110000
DTSTAMP:20260127T032008Z
URL:https://dallas.swea.org/events/fika-pa-ikea-11/
SUMMARY:Fika på IKEA
DESCRIPTION:Fika på IKEA i december\nVi ses på IKEA i Frisco kl. 10 i sof
 forna vid restaurangen.
ATTACH;FMTTYPE=image/jpeg:https://dallas.swea.org/wp-content/uploads/sites
 /76/2026/01/Fika-Pa-IKEA_IGPost_1080x1080.png
END:VEVENT
BEGIN:VTIMEZONE
TZID:America/Chicago
X-LIC-LOCATION:America/Chicago
BEGIN:STANDARD
DTSTART:20261101T010000
TZOFFSETFROM:-0500
TZOFFSETTO:-0600
TZNAME:CST
END:STANDARD
END:VTIMEZONE
END:VCALENDAR