BEGIN:VCALENDAR
VERSION:2.0
PRODID:-//wp-events-plugin.com//6.5//EN
BEGIN:VEVENT
UID:76-9957@dallas.swea.org
DTSTART;TZID=America/Chicago:20260407T100000
DTEND;TZID=America/Chicago:20260407T110000
DTSTAMP:20260127T031608Z
URL:https://dallas.swea.org/events/fika-pa-ikea-3/
SUMMARY:Fika på IKEA
DESCRIPTION:Fika på IKEA i april\nVi ses på IKEA i Frisco kl. 10 i soffor
 na vid restaurangen.
ATTACH;FMTTYPE=image/jpeg:https://dallas.swea.org/wp-content/uploads/sites
 /76/2026/01/Fika-Pa-IKEA_IGPost_1080x1080.png
END:VEVENT
BEGIN:VTIMEZONE
TZID:America/Chicago
X-LIC-LOCATION:America/Chicago
BEGIN:DAYLIGHT
DTSTART:20260308T030000
TZOFFSETFROM:-0600
TZOFFSETTO:-0500
TZNAME:CDT
END:DAYLIGHT
END:VTIMEZONE
END:VCALENDAR