BEGIN:VCALENDAR
VERSION:2.0
PRODID:-//wp-events-plugin.com//6.5//EN
BEGIN:VEVENT
UID:76-10253@dallas.swea.org
DTSTART;TZID=America/Chicago:20260417T100000
DTEND;TZID=America/Chicago:20260417T113000
DTSTAMP:20260319T031233Z
URL:https://dallas.swea.org/events/fredagsfrukost-i-april/
SUMMARY:Fredagsfrukost i april
DESCRIPTION:Välkomna till Edilia Bern på frukost.\nFör flera år sedan f
 anns det en "fredagsfrukost" som var ungefär en gång i månaden\, det va
 r jättetrevligt och mysigt på alla sätt.\nMan turades om att ha frukos
 ten hemma hos sig och man bjöd på vad man kände för. Detta var ett un
 derbart sätt att träffa nya och gamla svenskar i området och nu vill vi
  i SWEA Dallas se om vi kan få igång detta igen mellan oss Sweor. Om de
 t bara blir ett par gånger under året så blir det också bra\, det hel
 a går ut på att man träffas och har en mysig stund tillsammans.\nVälko
 mna!\nINBJUDAN SKICKAS VIA E-POST!
ATTACH;FMTTYPE=image/jpeg:https://dallas.swea.org/wp-content/uploads/sites
 /76/2026/03/Fredagsfrukost_Webbsidan_1080x1080.png
END:VEVENT
BEGIN:VTIMEZONE
TZID:America/Chicago
X-LIC-LOCATION:America/Chicago
BEGIN:DAYLIGHT
DTSTART:20260308T030000
TZOFFSETFROM:-0600
TZOFFSETTO:-0500
TZNAME:CDT
END:DAYLIGHT
END:VTIMEZONE
END:VCALENDAR