BEGIN:VCALENDAR
VERSION:2.0
PRODID:-//wp-events-plugin.com//6.5//EN
BEGIN:VEVENT
UID:76-10602@dallas.swea.org
DTSTART;TZID=America/Chicago:20260515T110000
DTEND;TZID=America/Chicago:20260515T140000
DTSTAMP:20260404T230822Z
URL:https://dallas.swea.org/events/gudtjanst-och-lunch-med-svenska-prasten
 -maria-scharffenberg/
SUMMARY:Gudtjänst och Lunch med Svenska Prästen Maria Scharffenberg
DESCRIPTION:Gudtjänst och Lunch\nVi ses hemma hos Edilia för en gudtjäns
 t som leds av Svenska Prästen Maria Scharffenberg.\nDe som vill åker på
  lunch direkt efteråt.\n\nINBJUDAN SKICKAS VIA E-POST!
ATTACH;FMTTYPE=image/jpeg:https://dallas.swea.org/wp-content/uploads/sites
 /76/2026/04/Prasten_Webbsidan_1080x1080.png
CATEGORIES:SWEA event
END:VEVENT
BEGIN:VTIMEZONE
TZID:America/Chicago
X-LIC-LOCATION:America/Chicago
BEGIN:DAYLIGHT
DTSTART:20260308T030000
TZOFFSETFROM:-0600
TZOFFSETTO:-0500
TZNAME:CDT
END:DAYLIGHT
END:VTIMEZONE
END:VCALENDAR