BEGIN:VCALENDAR
VERSION:2.0
PRODID:-//wp-events-plugin.com//6.5//EN
BEGIN:VEVENT
UID:76-10603@dallas.swea.org
DTSTART;TZID=America/Chicago:20260515T183000
DTEND;TZID=America/Chicago:20260515T210000
DTSTAMP:20260404T231328Z
URL:https://dallas.swea.org/events/samtal-och-mingel-med-svenska-prasten-m
 aria-scharffenberg/
SUMMARY:Samtal och Mingel med Svenska Prästen Maria Scharffenberg
DESCRIPTION:Samtal och Mingel\nVi ses hemma hos Edilia för ett samtal som 
 leds av Svenska Prästen Maria Scharffenberg.\n\nINBJUDAN SKICKAS VIA E-PO
 ST!
ATTACH;FMTTYPE=image/jpeg:https://dallas.swea.org/wp-content/uploads/sites
 /76/2026/04/Prasten_Webbsidan_1080x1080.png
CATEGORIES:SWEA event
END:VEVENT
BEGIN:VTIMEZONE
TZID:America/Chicago
X-LIC-LOCATION:America/Chicago
BEGIN:DAYLIGHT
DTSTART:20260308T030000
TZOFFSETFROM:-0600
TZOFFSETTO:-0500
TZNAME:CDT
END:DAYLIGHT
END:VTIMEZONE
END:VCALENDAR