BEGIN:VCALENDAR
VERSION:2.0
PRODID:-//wp-events-plugin.com//6.5//EN
BEGIN:VEVENT
UID:76-9936@dallas.swea.org
DTSTART;TZID=America/Chicago:20260206T190000
DTEND;TZID=America/Chicago:20260206T203000
DTSTAMP:20260201T165754Z
URL:https://dallas.swea.org/events/tackmiddag-2/
SUMMARY:Tackmiddag
DESCRIPTION:SWEA Dallas Volontärmiddag!\nSWEA Dallas vill visa sin uppskat
 tning för din insats som volontär under förra året genom att bjuda på
  middag.\nDu som på något sätt hjälpt till under året är varmt välk
 ommen.\nDin insats gjorde det möjligt för oss att fira Våfflan\, Räkfr
 ossa\, Ärtsoppan\, SWEA Dallas 25 årsjubileum\, Glöggmingel och många 
 andra roliga evenemang. Framför allt kunde vi genomföra SWEA Dallas enda
  stora årliga fundraiser – Julbasaren.\nTACK!\nFör mer information\, k
 olla inbjudan som du fick till din e-post.
ATTACH;FMTTYPE=image/jpeg:https://dallas.swea.org/wp-content/uploads/sites
 /76/2026/01/Tackmiddag_Webbsidan_1080x1080.png
CATEGORIES:SWEA event
END:VEVENT
BEGIN:VTIMEZONE
TZID:America/Chicago
X-LIC-LOCATION:America/Chicago
BEGIN:STANDARD
DTSTART:20251102T010000
TZOFFSETFROM:-0500
TZOFFSETTO:-0600
TZNAME:CST
END:STANDARD
END:VTIMEZONE
END:VCALENDAR