BEGIN:VCALENDAR
VERSION:2.0
PRODID:-//wp-events-plugin.com//6.5//EN
BEGIN:VEVENT
UID:76-10640@dallas.swea.org
DTSTART;TZID=America/Chicago:20260523T104500
DTEND;TZID=America/Chicago:20260523T123000
DTSTAMP:20260416T225927Z
URL:https://dallas.swea.org/events/tea-around-town/
SUMMARY:Tea Around Town
DESCRIPTION:Utflykt - Tea Around Town\nTurn Dallas into your own mobile tea
  room\n\n\nTea Around Town Dallas brings vibrant city views and a cozy aft
 ernoon tea experience aboard our elegant double-decker bus. Sip teas\, enj
 oy freshly prepared pastries\, and take in landmarks like the Arts Distric
 t\, Reunion Tower\, and the Dallas Museum of Art—all from a comfortable 
 and stylish setting.\n\n\nLäs mer här om Tea Around Town Bus Dallas\n\n\
 nVälkomna!\nINBJUDAN SKICKAS VIA E-POST!
ATTACH;FMTTYPE=image/jpeg:https://dallas.swea.org/wp-content/uploads/sites
 /76/2026/04/TeaAroundTown_Webbsidan_1080x1080.png
END:VEVENT
BEGIN:VTIMEZONE
TZID:America/Chicago
X-LIC-LOCATION:America/Chicago
BEGIN:DAYLIGHT
DTSTART:20260308T030000
TZOFFSETFROM:-0600
TZOFFSETTO:-0500
TZNAME:CDT
END:DAYLIGHT
END:VTIMEZONE
END:VCALENDAR