BEGIN:VCALENDAR
VERSION:2.0
PRODID:-//wp-events-plugin.com//6.5//EN
BEGIN:VEVENT
UID:76-10604@dallas.swea.org
DTSTART;TZID=America/Chicago:20260503T173000
DTEND;TZID=America/Chicago:20260503T200000
DTSTAMP:20260404T235241Z
URL:https://dallas.swea.org/events/valborg-med-sacc-dallas/
SUMMARY:Valborg med SACC Dallas
DESCRIPTION:Valborg - The Festival of Spring and Fire\nAs spring blossoms f
 orth\, Swedes across the world celebrate the arrival of May with time-hono
 red traditions like bonfires and the celebration of King Carl XVI Gustaf's
  birthday. Embracing this cultural festivity\, SACC Dallas\, in partnershi
 p with SWEA Dallas\, invites you to gather around the bonfire at the encha
 nting Solomon Estate for a memorable outdoor experience. Bring along your 
 friends and family\, including the little ones\, as we come together for a
 n evening of joy and community.\nHistory: The Valborg tradition originated
  in Sweden based on a tail about a nun named Valborg whom lived in the 8th
  century\, declared a saint on May 1\, 799. After her canonization\, her n
 ame was linked to the Vikings' traditional festivities welcoming of spring
 . Valborg is celebrated in Estonia\, Finland\, Latvia\, Sweden\, the Czech
  Republic and Germany.\nMajbrasa – May bonfire: Many of the traditions a
 t Valborg\, such as the lighting of fires\, come from Germany\, where they
  used to light fires to scare away the witches that evening. Lighting fire
 s in Sweden began during the Middle Ages in eastern Sweden\, while other p
 arts of the country used to wait until mid-May with the fires.\nCustoms: T
 he fires were meant to scare away wolves and supernatural beings before th
 e animals were let out to pasture for the summer\, the first of May. Aroun
 d the fires\, people used to shoot guns\, hit drums\, rattle with pot lids
  and shout\, all to scare. Nowadays firecrackers and fireworks are used in
 stead as well as  welcoming spring with song.\n... and an infinite other 
 reasons to celebrate Spring and Valborg 2026!\nWe look forward to seeing y
 ou!\n\nINBJUDAN SKICKAS VIA E-POST!
ATTACH;FMTTYPE=image/jpeg:https://dallas.swea.org/wp-content/uploads/sites
 /76/2026/04/Valborg_Webbsidan_1080x1080.png
END:VEVENT
BEGIN:VTIMEZONE
TZID:America/Chicago
X-LIC-LOCATION:America/Chicago
BEGIN:DAYLIGHT
DTSTART:20260308T030000
TZOFFSETFROM:-0600
TZOFFSETTO:-0500
TZNAME:CDT
END:DAYLIGHT
END:VTIMEZONE
END:VCALENDAR